BEGIN:VCALENDAR
VERSION:2.0
PRODID:-//Racó de Saoret - ECPv5.12.0//NONSGML v1.0//EN
CALSCALE:GREGORIAN
METHOD:PUBLISH
X-WR-CALNAME:Racó de Saoret
X-ORIGINAL-URL:https://racodesaoret.com
X-WR-CALDESC:Eventos para Racó de Saoret
REFRESH-INTERVAL;VALUE=DURATION:PT1H
X-Robots-Tag:noindex
X-PUBLISHED-TTL:PT1H
BEGIN:VTIMEZONE
TZID:Europe/Madrid
BEGIN:DAYLIGHT
TZOFFSETFROM:+0100
TZOFFSETTO:+0200
TZNAME:CEST
DTSTART:20260329T010000
END:DAYLIGHT
BEGIN:STANDARD
TZOFFSETFROM:+0200
TZOFFSETTO:+0100
TZNAME:CET
DTSTART:20261025T010000
END:STANDARD
END:VTIMEZONE
BEGIN:VEVENT
DTSTART;TZID=Europe/Madrid:20260417T180000
DTEND;TZID=Europe/Madrid:20260419T170000
DTSTAMP:20260425T174316
CREATED:20250814T183644Z
LAST-MODIFIED:20260209T085552Z
UID:1756-1776448800-1776618000@racodesaoret.com
SUMMARY:Retiro Espiritual con @remedios_martinez_soriano
DESCRIPTION:Como ya manda una de nuestras tradiciones\, vuelve Reme con su arte de sanar y su maravilloso grupo humano que la acompaña. \n\n\n\n¿Con qué nos sorprenderá en esta ocasión?\, sólo hay una manera de averiguarlo\, escríbele y con suerte nos vemos en el Racó.
URL:https://racodesaoret.com/eventos/retiro-espiritual-con-remedios_martinez_soriano/
ATTACH;FMTTYPE=image/jpeg:https://racodesaoret.com/wp-content/uploads/2025/02/Reme.jpg
END:VEVENT
BEGIN:VEVENT
DTSTART;TZID=Europe/Madrid:20260413T090000
DTEND;TZID=Europe/Madrid:20260413T180000
DTSTAMP:20260425T174316
CREATED:20260209T150628Z
LAST-MODIFIED:20260209T150628Z
UID:1813-1776070800-1776103200@racodesaoret.com
SUMMARY:Retiro de un Día con Baśka @eventos_yoga_valencia
DESCRIPTION:
URL:https://racodesaoret.com/eventos/retiro-de-un-dia-con-baska-eventos_yoga_valencia/
ATTACH;FMTTYPE=image/png:https://racodesaoret.com/wp-content/uploads/2026/02/cartel-retiro.png
END:VEVENT
END:VCALENDAR